BEGIN:VCALENDAR
VERSION:2.0
CALSCALE:GREGORIAN
METHOD:PUBLISH
X-WR-TIMEZONE:Europe/Madrid
BEGIN:VEVENT
SUMMARY:V Torneo de Pádel Damm Valencia
DTSTART:20260517T093000
DTEND:20260517T150000
DTSTAMP:20260421T082523Z
UID:https://events.damm.com/v-torneo-de-padel-damm-valencia
CATEGORIES:
DESCRIPTION:https://events.damm.com/v-torneo-de-padel-damm-valencia
GEO:39.3831792;-0.4169339
LOCATION:Family Sport Center C/ Barranc\, 50\, 46469\, Beniparrell\, Espa
 ña
ORGANIZER;CN="People Damm":mailto:live@damm.com
URL:https://events.damm.com/v-torneo-de-padel-damm-valencia
END:VEVENT
END:VCALENDAR
